BEGIN:VCALENDAR
VERSION:2.0
PRODID:-//Duo Monodia - ECPv5.1.6//NONSGML v1.0//EN
CALSCALE:GREGORIAN
METHOD:PUBLISH
X-WR-CALNAME:Duo Monodia
X-ORIGINAL-URL:http://www.monodia.ch
X-WR-CALDESC:Veranstaltungen für Duo Monodia
BEGIN:VTIMEZONE
TZID:Europe/Helsinki
BEGIN:DAYLIGHT
TZOFFSETFROM:+0200
TZOFFSETTO:+0300
TZNAME:EEST
DTSTART:20180325T010000
END:DAYLIGHT
BEGIN:STANDARD
TZOFFSETFROM:+0300
TZOFFSETTO:+0200
TZNAME:EET
DTSTART:20181028T010000
END:STANDARD
END:VTIMEZONE
BEGIN:VEVENT
DTSTART;TZID=Europe/Helsinki:20180211T170000
DTEND;TZID=Europe/Helsinki:20180211T180000
DTSTAMP:20260425T021150
CREATED:20171126T171911Z
LAST-MODIFIED:20171126T171911Z
UID:1421-1518368400-1518372000@www.monodia.ch
SUMMARY:Duo Rezital mit Orgel: „Musikalische Galanterien“
DESCRIPTION:Werke von C.Ph.E. Bach\, T. Vincent\, G.Ph.Telemann u.a.
URL:http://www.monodia.ch/event/duo-rezital-mit-orgel-musikalische-galanterien/
LOCATION:Evangelische Kirche Amriswil\, Schweiz
CATEGORIES:Duo Monodia,Harfe,Julia Kreyenbühl-Gschwend,Konzerte,Oboe,Philipp Kreyenbühl
END:VEVENT
END:VCALENDAR