BEGIN:VCALENDAR
VERSION:2.0
PRODID:-//Duo Monodia - ECPv5.1.6//NONSGML v1.0//EN
CALSCALE:GREGORIAN
METHOD:PUBLISH
X-WR-CALNAME:Duo Monodia
X-ORIGINAL-URL:http://www.monodia.ch
X-WR-CALDESC:Veranstaltungen für Duo Monodia
BEGIN:VTIMEZONE
TZID:Europe/Helsinki
BEGIN:DAYLIGHT
TZOFFSETFROM:+0200
TZOFFSETTO:+0300
TZNAME:EEST
DTSTART:20190331T010000
END:DAYLIGHT
BEGIN:STANDARD
TZOFFSETFROM:+0300
TZOFFSETTO:+0200
TZNAME:EET
DTSTART:20191027T010000
END:STANDARD
END:VTIMEZONE
BEGIN:VEVENT
DTSTART;TZID=Europe/Helsinki:20191124T100000
DTEND;TZID=Europe/Helsinki:20191124T110000
DTSTAMP:20260424T212801
CREATED:20190620T151519Z
LAST-MODIFIED:20190620T151519Z
UID:1445-1574589600-1574593200@www.monodia.ch
SUMMARY:Gottesdienst mit Harfe
DESCRIPTION:
URL:http://www.monodia.ch/event/gottesdienst-mit-harfe-2/
LOCATION:Ev. Kirche\, Scherzingen
CATEGORIES:Gottesdienst,Harfe,Julia Kreyenbühl-Gschwend
END:VEVENT
END:VCALENDAR