BEGIN:VCALENDAR
VERSION:2.0
PRODID:-//Duo Monodia - ECPv5.1.6//NONSGML v1.0//EN
CALSCALE:GREGORIAN
METHOD:PUBLISH
X-WR-CALNAME:Duo Monodia
X-ORIGINAL-URL:http://www.monodia.ch
X-WR-CALDESC:Veranstaltungen für Duo Monodia
BEGIN:VTIMEZONE
TZID:Europe/Helsinki
BEGIN:DAYLIGHT
TZOFFSETFROM:+0200
TZOFFSETTO:+0300
TZNAME:EEST
DTSTART:20190331T010000
END:DAYLIGHT
BEGIN:STANDARD
TZOFFSETFROM:+0300
TZOFFSETTO:+0200
TZNAME:EET
DTSTART:20191027T010000
END:STANDARD
END:VTIMEZONE
BEGIN:VEVENT
DTSTART;TZID=Europe/Helsinki:20190915T100000
DTEND;TZID=Europe/Helsinki:20190915T110000
DTSTAMP:20260424T230423
CREATED:20190620T151311Z
LAST-MODIFIED:20190620T151311Z
UID:1441-1568541600-1568545200@www.monodia.ch
SUMMARY:Gottesdienst mit Harfe
DESCRIPTION:
URL:http://www.monodia.ch/event/gottesdienst-mit-harfe/
LOCATION:Ev. Kirche\, Engelburg
CATEGORIES:Gottesdienst,Harfe,Julia Kreyenbühl-Gschwend
END:VEVENT
END:VCALENDAR