BEGIN:VCALENDAR
VERSION:2.0
PRODID:-//Duo Monodia - ECPv5.1.6//NONSGML v1.0//EN
CALSCALE:GREGORIAN
METHOD:PUBLISH
X-WR-CALNAME:Duo Monodia
X-ORIGINAL-URL:http://www.monodia.ch
X-WR-CALDESC:Veranstaltungen für Duo Monodia
BEGIN:VTIMEZONE
TZID:Europe/Helsinki
BEGIN:DAYLIGHT
TZOFFSETFROM:+0200
TZOFFSETTO:+0300
TZNAME:EEST
DTSTART:20180325T010000
END:DAYLIGHT
BEGIN:STANDARD
TZOFFSETFROM:+0300
TZOFFSETTO:+0200
TZNAME:EET
DTSTART:20181028T010000
END:STANDARD
END:VTIMEZONE
BEGIN:VEVENT
DTSTART;TZID=Europe/Helsinki:20181104T100000
DTEND;TZID=Europe/Helsinki:20181104T120000
DTSTAMP:20260425T003047
CREATED:20171126T172037Z
LAST-MODIFIED:20171126T172037Z
UID:1422-1541325600-1541332800@www.monodia.ch
SUMMARY:Gottesdienst mit Oboe und Orgel
DESCRIPTION:
URL:http://www.monodia.ch/event/gottesdienst-mit-oboe-und-orgel-3/
LOCATION:Evangelische Kirche Scherzingen\, Scherzingen\, TG\, Schweiz
CATEGORIES:Gottesdienst,Oboe,Philipp Kreyenbühl
END:VEVENT
END:VCALENDAR