BEGIN:VCALENDAR
VERSION:2.0
PRODID:-//Duo Monodia - ECPv5.1.6//NONSGML v1.0//EN
CALSCALE:GREGORIAN
METHOD:PUBLISH
X-WR-CALNAME:Duo Monodia
X-ORIGINAL-URL:http://www.monodia.ch
X-WR-CALDESC:Veranstaltungen für Duo Monodia
BEGIN:VTIMEZONE
TZID:Europe/Helsinki
BEGIN:DAYLIGHT
TZOFFSETFROM:+0200
TZOFFSETTO:+0300
TZNAME:EEST
DTSTART:20190331T010000
END:DAYLIGHT
BEGIN:STANDARD
TZOFFSETFROM:+0300
TZOFFSETTO:+0200
TZNAME:EET
DTSTART:20191027T010000
END:STANDARD
END:VTIMEZONE
BEGIN:VEVENT
DTSTART;TZID=Europe/Helsinki:20191124T100000
DTEND;TZID=Europe/Helsinki:20191124T120000
DTSTAMP:20260424T194720
CREATED:20190819T144224Z
LAST-MODIFIED:20190819T144224Z
UID:1462-1574589600-1574596800@www.monodia.ch
SUMMARY:Gottesdienst mit Oboe und Orgel
DESCRIPTION:
URL:http://www.monodia.ch/event/gottesdienst-mit-oboe-und-orgel-4/
LOCATION:Evangelische Kirche Amriswil\, Schweiz
CATEGORIES:Gottesdienst,Oboe,Philipp Kreyenbühl
END:VEVENT
END:VCALENDAR