BEGIN:VCALENDAR
VERSION:2.0
PRODID:-//Duo Monodia - ECPv5.1.6//NONSGML v1.0//EN
CALSCALE:GREGORIAN
METHOD:PUBLISH
X-WR-CALNAME:Duo Monodia
X-ORIGINAL-URL:http://www.monodia.ch
X-WR-CALDESC:Veranstaltungen für Duo Monodia
BEGIN:VTIMEZONE
TZID:Europe/Helsinki
BEGIN:DAYLIGHT
TZOFFSETFROM:+0200
TZOFFSETTO:+0300
TZNAME:EEST
DTSTART:20200329T010000
END:DAYLIGHT
BEGIN:STANDARD
TZOFFSETFROM:+0300
TZOFFSETTO:+0200
TZNAME:EET
DTSTART:20201025T010000
END:STANDARD
END:VTIMEZONE
BEGIN:VEVENT
DTSTART;TZID=Europe/Helsinki:20201122T100000
DTEND;TZID=Europe/Helsinki:20201122T100000
DTSTAMP:20260424T182510
CREATED:20201031T175409Z
LAST-MODIFIED:20201031T175409Z
UID:1474-1606039200-1606039200@www.monodia.ch
SUMMARY:Gottesdienst mit Oboe und Orgel\, evang. Kirche Scherzingen
DESCRIPTION:
URL:http://www.monodia.ch/event/gottesdienst-mit-oboe-und-orgel-evang-kirche-scherzingen/
CATEGORIES:Gottesdienst,Oboe
END:VEVENT
END:VCALENDAR