BEGIN:VCALENDAR
VERSION:2.0
PRODID:-//Duo Monodia - ECPv5.1.6//NONSGML v1.0//EN
CALSCALE:GREGORIAN
METHOD:PUBLISH
X-WR-CALNAME:Duo Monodia
X-ORIGINAL-URL:http://www.monodia.ch
X-WR-CALDESC:Veranstaltungen für Duo Monodia
BEGIN:VTIMEZONE
TZID:Europe/Helsinki
BEGIN:DAYLIGHT
TZOFFSETFROM:+0200
TZOFFSETTO:+0300
TZNAME:EEST
DTSTART:20200329T010000
END:DAYLIGHT
BEGIN:STANDARD
TZOFFSETFROM:+0300
TZOFFSETTO:+0200
TZNAME:EET
DTSTART:20201025T010000
END:STANDARD
END:VTIMEZONE
BEGIN:VEVENT
DTSTART;TZID=Europe/Helsinki:20201101T100000
DTEND;TZID=Europe/Helsinki:20201101T100000
DTSTAMP:20260424T183446
CREATED:20201031T174423Z
LAST-MODIFIED:20201031T174558Z
UID:1467-1604224800-1604224800@www.monodia.ch
SUMMARY:Gottesdienst zum Reformationssonntag\, evang. Kirche Horn
DESCRIPTION:evangelische Kirche Horn
URL:http://www.monodia.ch/event/gottesdienst-zum-reformationssonntag/
CATEGORIES:Gottesdienst,Harfe,Julia Kreyenbühl-Gschwend
END:VEVENT
END:VCALENDAR