BEGIN:VCALENDAR
VERSION:2.0
PRODID:-//Duo Monodia - ECPv5.1.6//NONSGML v1.0//EN
CALSCALE:GREGORIAN
METHOD:PUBLISH
X-WR-CALNAME:Duo Monodia
X-ORIGINAL-URL:http://www.monodia.ch
X-WR-CALDESC:Veranstaltungen für Duo Monodia
BEGIN:VTIMEZONE
TZID:Europe/Helsinki
BEGIN:DAYLIGHT
TZOFFSETFROM:+0200
TZOFFSETTO:+0300
TZNAME:EEST
DTSTART:20180325T010000
END:DAYLIGHT
BEGIN:STANDARD
TZOFFSETFROM:+0300
TZOFFSETTO:+0200
TZNAME:EET
DTSTART:20181028T010000
END:STANDARD
END:VTIMEZONE
BEGIN:VEVENT
DTSTART;TZID=Europe/Helsinki:20180330T100000
DTEND;TZID=Europe/Helsinki:20180330T110000
DTSTAMP:20260425T021302
CREATED:20180120T091612Z
LAST-MODIFIED:20180120T091612Z
UID:1426-1522404000-1522407600@www.monodia.ch
SUMMARY:Karfreitagsgottesdienst mit Harfe\, Flöte und Orgel
DESCRIPTION:
URL:http://www.monodia.ch/event/karfreitagsgottesdienst-mit-harfe-floete-und-orgel/
LOCATION:Kirche St. Martin\, Chur\, Schweiz
CATEGORIES:Gottesdienst,Harfe,Julia Kreyenbühl-Gschwend
END:VEVENT
END:VCALENDAR