BEGIN:VCALENDAR
VERSION:2.0
PRODID:-//Duo Monodia - ECPv5.1.6//NONSGML v1.0//EN
CALSCALE:GREGORIAN
METHOD:PUBLISH
X-WR-CALNAME:Duo Monodia
X-ORIGINAL-URL:http://www.monodia.ch
X-WR-CALDESC:Veranstaltungen für Duo Monodia
BEGIN:VTIMEZONE
TZID:Europe/Helsinki
BEGIN:DAYLIGHT
TZOFFSETFROM:+0200
TZOFFSETTO:+0300
TZNAME:EEST
DTSTART:20170326T010000
END:DAYLIGHT
BEGIN:STANDARD
TZOFFSETFROM:+0300
TZOFFSETTO:+0200
TZNAME:EET
DTSTART:20171029T010000
END:STANDARD
END:VTIMEZONE
BEGIN:VEVENT
DTSTART;TZID=Europe/Helsinki:20170611T193000
DTEND;TZID=Europe/Helsinki:20170611T210000
DTSTAMP:20260425T052039
CREATED:20170311T115112Z
LAST-MODIFIED:20170311T115112Z
UID:1402-1497209400-1497214800@www.monodia.ch
SUMMARY:Konzert mit dem Stadtorchester Frauenfeld
DESCRIPTION:
URL:http://www.monodia.ch/event/konzert-mit-dem-stadtorchester-frauenfeld-2/
LOCATION:Evang. Stadtkirche Frauenfeld
CATEGORIES:Harfe,Julia Kreyenbühl-Gschwend,Orchester
END:VEVENT
END:VCALENDAR