BEGIN:VCALENDAR
VERSION:2.0
PRODID:-//Duo Monodia - ECPv5.1.6//NONSGML v1.0//EN
CALSCALE:GREGORIAN
METHOD:PUBLISH
X-WR-CALNAME:Duo Monodia
X-ORIGINAL-URL:http://www.monodia.ch
X-WR-CALDESC:Veranstaltungen für Duo Monodia
BEGIN:VTIMEZONE
TZID:Europe/Helsinki
BEGIN:DAYLIGHT
TZOFFSETFROM:+0200
TZOFFSETTO:+0300
TZNAME:EEST
DTSTART:20200329T010000
END:DAYLIGHT
BEGIN:STANDARD
TZOFFSETFROM:+0300
TZOFFSETTO:+0200
TZNAME:EET
DTSTART:20201025T010000
END:STANDARD
END:VTIMEZONE
BEGIN:VEVENT
DTSTART;TZID=Europe/Helsinki:20201129T170000
DTEND;TZID=Europe/Helsinki:20201129T170000
DTSTAMP:20260424T184258
CREATED:20201031T175101Z
LAST-MODIFIED:20201031T175101Z
UID:1470-1606669200-1606669200@www.monodia.ch
SUMMARY:Konzert mit Flöte\, Viola und Harfe - evang. Kirche Hemberg
DESCRIPTION:
URL:http://www.monodia.ch/event/konzert-mit-floete-viola-und-harfe-evang-kirche-hemberg/
CATEGORIES:Ensemble,Harfe,Julia Kreyenbühl-Gschwend
END:VEVENT
END:VCALENDAR