BEGIN:VCALENDAR
VERSION:2.0
PRODID:-//Duo Monodia - ECPv5.1.6//NONSGML v1.0//EN
CALSCALE:GREGORIAN
METHOD:PUBLISH
X-WR-CALNAME:Duo Monodia
X-ORIGINAL-URL:http://www.monodia.ch
X-WR-CALDESC:Veranstaltungen für Duo Monodia
BEGIN:VTIMEZONE
TZID:Europe/Helsinki
BEGIN:DAYLIGHT
TZOFFSETFROM:+0200
TZOFFSETTO:+0300
TZNAME:EEST
DTSTART:20140330T010000
END:DAYLIGHT
BEGIN:STANDARD
TZOFFSETFROM:+0300
TZOFFSETTO:+0200
TZNAME:EET
DTSTART:20141026T010000
END:STANDARD
END:VTIMEZONE
BEGIN:VEVENT
DTSTART;TZID=Europe/Helsinki:20140604T121500
DTEND;TZID=Europe/Helsinki:20140604T124500
DTSTAMP:20260425T141021
CREATED:20140513T133857Z
LAST-MODIFIED:20140514T233532Z
UID:1274-1401884100-1401885900@www.monodia.ch
SUMMARY:Mittwoch-Mittag-Konzert mit dem Duo Monodia: "Musik aus Frankreich"
DESCRIPTION:Julia Kreyenbühl-Gschwend\, Harfe\nPhilipp Kreyenbühl\, Oboe/Englischhorn
URL:http://www.monodia.ch/event/mittwochmittagkonzert-mit-dem-duo-monodia-musik-aus-frankreich/
LOCATION:Reformierte Kirche St.Laurenzen\, Marktgasse 25\, St.Gallen\, SG\, 9000\, Schweiz
CATEGORIES:Duo Monodia,Harfe,Julia Kreyenbühl-Gschwend,Konzerte,Oboe,Philipp Kreyenbühl
END:VEVENT
END:VCALENDAR