BEGIN:VCALENDAR
VERSION:2.0
PRODID:-//Duo Monodia - ECPv5.1.6//NONSGML v1.0//EN
CALSCALE:GREGORIAN
METHOD:PUBLISH
X-WR-CALNAME:Duo Monodia
X-ORIGINAL-URL:http://www.monodia.ch
X-WR-CALDESC:Veranstaltungen für Duo Monodia
BEGIN:VTIMEZONE
TZID:Europe/Helsinki
BEGIN:DAYLIGHT
TZOFFSETFROM:+0200
TZOFFSETTO:+0300
TZNAME:EEST
DTSTART:20170326T010000
END:DAYLIGHT
BEGIN:STANDARD
TZOFFSETFROM:+0300
TZOFFSETTO:+0200
TZNAME:EET
DTSTART:20171029T010000
END:STANDARD
END:VTIMEZONE
BEGIN:VEVENT
DTSTART;TZID=Europe/Helsinki:20170813T110000
DTEND;TZID=Europe/Helsinki:20170813T120000
DTSTAMP:20260425T051142
CREATED:20170311T114032Z
LAST-MODIFIED:20170311T114032Z
UID:1394-1502622000-1502625600@www.monodia.ch
SUMMARY:Patroziniums Gottesdienst
DESCRIPTION:HAYDN: Grosse Orgelsolomesse Es Dur
URL:http://www.monodia.ch/event/patroziniums-gottesdienst/
LOCATION:Kathedrale St. Gallen
CATEGORIES:Oboe,Orchester,Philipp Kreyenbühl
END:VEVENT
END:VCALENDAR