BEGIN:VCALENDAR
VERSION:2.0
PRODID:-//Duo Monodia - ECPv5.1.6//NONSGML v1.0//EN
CALSCALE:GREGORIAN
METHOD:PUBLISH
X-WR-CALNAME:Duo Monodia
X-ORIGINAL-URL:http://www.monodia.ch
X-WR-CALDESC:Veranstaltungen für Duo Monodia
BEGIN:VTIMEZONE
TZID:Europe/Helsinki
BEGIN:DAYLIGHT
TZOFFSETFROM:+0200
TZOFFSETTO:+0300
TZNAME:EEST
DTSTART:20170326T010000
END:DAYLIGHT
BEGIN:STANDARD
TZOFFSETFROM:+0300
TZOFFSETTO:+0200
TZNAME:EET
DTSTART:20171029T010000
END:STANDARD
END:VTIMEZONE
BEGIN:VEVENT
DTSTART;TZID=Europe/Helsinki:20170605T093000
DTEND;TZID=Europe/Helsinki:20170605T110000
DTSTAMP:20260425T064750
CREATED:20170311T114846Z
LAST-MODIFIED:20170311T114846Z
UID:1398-1496655000-1496660400@www.monodia.ch
SUMMARY:Pfingstgottesdienst mit Harfe und Orgel
DESCRIPTION:
URL:http://www.monodia.ch/event/pfingstgottesdienst-mit-harfe-und-orgel-2/
LOCATION:Evangelische Kirche Oberaach
END:VEVENT
END:VCALENDAR