BEGIN:VCALENDAR
VERSION:2.0
PRODID:-//Duo Monodia - ECPv5.1.6//NONSGML v1.0//EN
CALSCALE:GREGORIAN
METHOD:PUBLISH
X-WR-CALNAME:Duo Monodia
X-ORIGINAL-URL:http://www.monodia.ch
X-WR-CALDESC:Veranstaltungen für Duo Monodia
BEGIN:VTIMEZONE
TZID:Europe/Helsinki
BEGIN:DAYLIGHT
TZOFFSETFROM:+0200
TZOFFSETTO:+0300
TZNAME:EEST
DTSTART:20190331T010000
END:DAYLIGHT
BEGIN:STANDARD
TZOFFSETFROM:+0300
TZOFFSETTO:+0200
TZNAME:EET
DTSTART:20191027T010000
END:STANDARD
END:VTIMEZONE
BEGIN:VEVENT
DTSTART;TZID=Europe/Helsinki:20190818T090000
DTEND;TZID=Europe/Helsinki:20190818T110000
DTSTAMP:20260424T211838
CREATED:20190620T151837Z
LAST-MODIFIED:20190620T151837Z
UID:1450-1566118800-1566126000@www.monodia.ch
SUMMARY:Ponitifakalamt Kathedrale SG
DESCRIPTION:
URL:http://www.monodia.ch/event/ponitifakalamt-kathedrale-sg/
LOCATION:Kathedrale\, St. Gallen
CATEGORIES:Gottesdienst,Oboe,Orchester,Philipp Kreyenbühl
END:VEVENT
END:VCALENDAR