BEGIN:VCALENDAR
VERSION:2.0
PRODID:-//Duo Monodia - ECPv5.1.6//NONSGML v1.0//EN
CALSCALE:GREGORIAN
METHOD:PUBLISH
X-WR-CALNAME:Duo Monodia
X-ORIGINAL-URL:http://www.monodia.ch
X-WR-CALDESC:Veranstaltungen für Duo Monodia
BEGIN:VTIMEZONE
TZID:Europe/Helsinki
BEGIN:DAYLIGHT
TZOFFSETFROM:+0200
TZOFFSETTO:+0300
TZNAME:EEST
DTSTART:20190331T010000
END:DAYLIGHT
BEGIN:STANDARD
TZOFFSETFROM:+0300
TZOFFSETTO:+0200
TZNAME:EET
DTSTART:20191027T010000
END:STANDARD
END:VTIMEZONE
BEGIN:VEVENT
DTSTART;TZID=Europe/Helsinki:20190623T193000
DTEND;TZID=Europe/Helsinki:20190623T220000
DTSTAMP:20260424T230653
CREATED:20190620T150820Z
LAST-MODIFIED:20190620T150820Z
UID:1434-1561318200-1561327200@www.monodia.ch
SUMMARY:Reinhold Glière Harfenkonzert
DESCRIPTION:
URL:http://www.monodia.ch/event/reinhold-gliere-harfenkonzert-2/
LOCATION:Stadtkirche\, Frauenfeld
CATEGORIES:Harfe,Julia Kreyenbühl-Gschwend,Konzerte
END:VEVENT
END:VCALENDAR