BEGIN:VCALENDAR
VERSION:2.0
PRODID:-//Duo Monodia - ECPv5.1.6//NONSGML v1.0//EN
CALSCALE:GREGORIAN
METHOD:PUBLISH
X-WR-CALNAME:Duo Monodia
X-ORIGINAL-URL:http://www.monodia.ch
X-WR-CALDESC:Veranstaltungen für Duo Monodia
BEGIN:VTIMEZONE
TZID:Europe/Helsinki
BEGIN:DAYLIGHT
TZOFFSETFROM:+0200
TZOFFSETTO:+0300
TZNAME:EEST
DTSTART:20190331T010000
END:DAYLIGHT
BEGIN:STANDARD
TZOFFSETFROM:+0300
TZOFFSETTO:+0200
TZNAME:EET
DTSTART:20191027T010000
END:STANDARD
END:VTIMEZONE
BEGIN:VEVENT
DTSTART;TZID=Europe/Helsinki:20190621T200000
DTEND;TZID=Europe/Helsinki:20190621T220000
DTSTAMP:20260424T230800
CREATED:20190620T150653Z
LAST-MODIFIED:20190620T150653Z
UID:1432-1561147200-1561154400@www.monodia.ch
SUMMARY:Reinhold Glière Harfenkonzert
DESCRIPTION:
URL:http://www.monodia.ch/event/reinhold-gliere-harfenkonzert/
LOCATION:Ev. Kirche\, Steckborn 
CATEGORIES:Harfe,Julia Kreyenbühl-Gschwend,Konzerte
END:VEVENT
END:VCALENDAR