BEGIN:VCALENDAR
VERSION:2.0
PRODID:-//Duo Monodia - ECPv5.1.6//NONSGML v1.0//EN
CALSCALE:GREGORIAN
METHOD:PUBLISH
X-WR-CALNAME:Duo Monodia
X-ORIGINAL-URL:http://www.monodia.ch
X-WR-CALDESC:Veranstaltungen für Duo Monodia
BEGIN:VTIMEZONE
TZID:Europe/Helsinki
BEGIN:DAYLIGHT
TZOFFSETFROM:+0200
TZOFFSETTO:+0300
TZNAME:EEST
DTSTART:20170326T010000
END:DAYLIGHT
BEGIN:STANDARD
TZOFFSETFROM:+0300
TZOFFSETTO:+0200
TZNAME:EET
DTSTART:20171029T010000
END:STANDARD
END:VTIMEZONE
BEGIN:VEVENT
DTSTART;TZID=Europe/Helsinki:20171112T170000
DTEND;TZID=Europe/Helsinki:20171112T180000
DTSTAMP:20260425T051943
CREATED:20160326T160137Z
LAST-MODIFIED:20170311T115318Z
UID:1378-1510506000-1510509600@www.monodia.ch
SUMMARY:Sonntags um Fünf: Konzert mit Harfe\, Flöte\, Violine\, Viola und Violoncello
DESCRIPTION:
URL:http://www.monodia.ch/event/sonntags-um-fuenf-konzert-mit-harfe-floete-violine-viola-und-violoncello/
LOCATION:Tonhalle St.Gallen
CATEGORIES:Ensemble,Harfe,Julia Kreyenbühl-Gschwend,Konzerte
END:VEVENT
END:VCALENDAR