BEGIN:VCALENDAR
VERSION:2.0
PRODID:-//Duo Monodia - ECPv5.1.6//NONSGML v1.0//EN
CALSCALE:GREGORIAN
METHOD:PUBLISH
X-WR-CALNAME:Duo Monodia
X-ORIGINAL-URL:http://www.monodia.ch
X-WR-CALDESC:Veranstaltungen für Duo Monodia
BEGIN:VTIMEZONE
TZID:Europe/Helsinki
BEGIN:DAYLIGHT
TZOFFSETFROM:+0200
TZOFFSETTO:+0300
TZNAME:EEST
DTSTART:20200329T010000
END:DAYLIGHT
BEGIN:STANDARD
TZOFFSETFROM:+0300
TZOFFSETTO:+0200
TZNAME:EET
DTSTART:20201025T010000
END:STANDARD
END:VTIMEZONE
BEGIN:VEVENT
DTSTART;TZID=Europe/Helsinki:20201225T100000
DTEND;TZID=Europe/Helsinki:20201225T100000
DTSTAMP:20260424T184752
CREATED:20201031T175213Z
LAST-MODIFIED:20201031T175213Z
UID:1472-1608890400-1608890400@www.monodia.ch
SUMMARY:Weihnachtsgottesdienst\, evang. Kirche Scherzingen
DESCRIPTION:
URL:http://www.monodia.ch/event/weihnachtsgottesdienst-evang-kirche-scherzingen/
CATEGORIES:Gottesdienst,Harfe,Julia Kreyenbühl-Gschwend
END:VEVENT
END:VCALENDAR