BEGIN:VCALENDAR
VERSION:2.0
PRODID:-//Duo Monodia - ECPv5.1.6//NONSGML v1.0//EN
CALSCALE:GREGORIAN
METHOD:PUBLISH
X-WR-CALNAME:Duo Monodia
X-ORIGINAL-URL:http://www.monodia.ch
X-WR-CALDESC:Veranstaltungen für Duo Monodia
BEGIN:VTIMEZONE
TZID:Europe/Helsinki
BEGIN:DAYLIGHT
TZOFFSETFROM:+0200
TZOFFSETTO:+0300
TZNAME:EEST
DTSTART:20180325T010000
END:DAYLIGHT
BEGIN:STANDARD
TZOFFSETFROM:+0300
TZOFFSETTO:+0200
TZNAME:EET
DTSTART:20181028T010000
END:STANDARD
END:VTIMEZONE
BEGIN:VEVENT
DTSTART;TZID=Europe/Helsinki:20181225T100000
DTEND;TZID=Europe/Helsinki:20181225T120000
DTSTAMP:20260425T003215
CREATED:20171126T172136Z
LAST-MODIFIED:20171126T172136Z
UID:1423-1545732000-1545739200@www.monodia.ch
SUMMARY:Weihnachtsgottesdienst mit Harfe und Orgel
DESCRIPTION:
URL:http://www.monodia.ch/event/weihnachtsgottesdienst-mit-harfe-und-orgel-2/
LOCATION:Evangelische Kirche Scherzingen\, Scherzingen\, TG\, Schweiz
CATEGORIES:Gottesdienst,Harfe,Julia Kreyenbühl-Gschwend
END:VEVENT
END:VCALENDAR