BEGIN:VCALENDAR
VERSION:2.0
PRODID:-//Duo Monodia - ECPv5.1.6//NONSGML v1.0//EN
CALSCALE:GREGORIAN
METHOD:PUBLISH
X-WR-CALNAME:Duo Monodia
X-ORIGINAL-URL:http://www.monodia.ch
X-WR-CALDESC:Veranstaltungen für Duo Monodia
BEGIN:VTIMEZONE
TZID:Europe/Helsinki
BEGIN:DAYLIGHT
TZOFFSETFROM:+0200
TZOFFSETTO:+0300
TZNAME:EEST
DTSTART:20160327T010000
END:DAYLIGHT
BEGIN:STANDARD
TZOFFSETFROM:+0300
TZOFFSETTO:+0200
TZNAME:EET
DTSTART:20161030T010000
END:STANDARD
END:VTIMEZONE
BEGIN:VEVENT
DTSTART;TZID=Europe/Helsinki:20160326T080000
DTEND;TZID=Europe/Helsinki:20160930T170000
DTSTAMP:20260425T051355
CREATED:20160326T160448Z
LAST-MODIFIED:20160326T160448Z
UID:1380-1458979200-1475254800@www.monodia.ch
SUMMARY:Wir erarbeiten ein neues abendfüllendes  Programm - bald "on Tour"!
DESCRIPTION:
URL:http://www.monodia.ch/event/wir-erarbeiten-ein-neues-abendfuellendes-programm-bald-on-tour/
CATEGORIES:Duo Monodia,Julia Kreyenbühl-Gschwend,Konzerte,Oboe
END:VEVENT
END:VCALENDAR